BEGIN:VCALENDAR
VERSION:2.0
PRODID:-//Future WILPF - ECPv6.2.0.1//NONSGML v1.0//EN
CALSCALE:GREGORIAN
METHOD:PUBLISH
X-WR-CALNAME:Future WILPF
X-ORIGINAL-URL:https://future.wilpf.org
X-WR-CALDESC:Events for Future WILPF
REFRESH-INTERVAL;VALUE=DURATION:PT1H
X-Robots-Tag:noindex
X-PUBLISHED-TTL:PT1H
BEGIN:VTIMEZONE
TZID:Africa/Abidjan
BEGIN:STANDARD
TZOFFSETFROM:+0000
TZOFFSETTO:+0000
TZNAME:GMT
DTSTART:20210101T000000
END:STANDARD
END:VTIMEZONE
BEGIN:VEVENT
DTSTART;TZID=Africa/Abidjan:20210719T120000
DTEND;TZID=Africa/Abidjan:20210719T140000
DTSTAMP:20260425T154732
CREATED:20210806T085233Z
LAST-MODIFIED:20210806T085302Z
UID:1550-1626696000-1626703200@future.wilpf.org
SUMMARY:Global Call: WILPF Vision & Values 1
DESCRIPTION:Introduction to Future WILPF & join other WILPFers as we reflect on our shared values\, discuss the different contexts in which we work\, and explore our collective vision for the future of our movement.
URL:https://future.wilpf.org/event/global-call-wilpf-vision-values-1/
END:VEVENT
END:VCALENDAR